BEGIN:VCALENDAR
VERSION:2.0
PRODID:-//Nyora Raceway - ECPv6.14.2//NONSGML v1.0//EN
CALSCALE:GREGORIAN
METHOD:PUBLISH
X-WR-CALNAME:Nyora Raceway
X-ORIGINAL-URL:https://nyoraraceway.org.au
X-WR-CALDESC:Events for Nyora Raceway
REFRESH-INTERVAL;VALUE=DURATION:PT1H
X-Robots-Tag:noindex
X-PUBLISHED-TTL:PT1H
BEGIN:VTIMEZONE
TZID:Australia/Melbourne
BEGIN:STANDARD
TZOFFSETFROM:+1100
TZOFFSETTO:+1000
TZNAME:AEST
DTSTART:20210403T160000
END:STANDARD
BEGIN:DAYLIGHT
TZOFFSETFROM:+1000
TZOFFSETTO:+1100
TZNAME:AEDT
DTSTART:20211002T160000
END:DAYLIGHT
END:VTIMEZONE
BEGIN:VEVENT
DTSTART;TZID=Australia/Melbourne:20210327T110000
DTEND;TZID=Australia/Melbourne:20210327T233000
DTSTAMP:20260423T153018
CREATED:20210316T050140Z
LAST-MODIFIED:20210316T064941Z
UID:3356-1616842800-1616887800@nyoraraceway.org.au
SUMMARY:360 All Star Sprint Cars & SSA Juniors Vic State Title
DESCRIPTION:The 360 All-Star Sprint Cars Sprint cars are back after 7 years and are ready to bring down the house along with the SSA Juniors battling it one to be VIC 1.
URL:https://nyoraraceway.org.au/event/360-all-star-sprint-cars-ssa-juniors-vic-state-title/
LOCATION:Nyora Raceway\, Grundy Ave\, Nyora\, Vic\, 3987
ATTACH;FMTTYPE=image/jpeg:https://nyoraraceway.org.au/wp-content/uploads/2020/08/allstars-1.jpg
END:VEVENT
BEGIN:VEVENT
DTSTART;TZID=Australia/Melbourne:20210328T090000
DTEND;TZID=Australia/Melbourne:20210328T180000
DTSTAMP:20260423T153018
CREATED:20200829T023304Z
LAST-MODIFIED:20210316T051846Z
UID:794-1616922000-1616954400@nyoraraceway.org.au
SUMMARY:Woggy Memorial Sports Sedans
DESCRIPTION:Join us as we pay our respects with the Woggy Memorial supported by Open Standards\, Ladies Standards\, SSA Juniors and the Junior Sedans as they battle it out for club points. \nTICKETS FOR THIS EVENT WILL BE SOLD AT THE GATE.
URL:https://nyoraraceway.org.au/event/woggy-memorial-sports-sedans/
LOCATION:Nyora Raceway\, Grundy Ave\, Nyora\, Vic\, 3987
ATTACH;FMTTYPE=image/jpeg:https://nyoraraceway.org.au/wp-content/uploads/2020/08/ssa-juniors-4.jpg
END:VEVENT
END:VCALENDAR