BEGIN:VCALENDAR
VERSION:2.0
PRODID:-//Nyora Raceway - ECPv6.14.2//NONSGML v1.0//EN
CALSCALE:GREGORIAN
METHOD:PUBLISH
X-WR-CALNAME:Nyora Raceway
X-ORIGINAL-URL:https://nyoraraceway.org.au
X-WR-CALDESC:Events for Nyora Raceway
REFRESH-INTERVAL;VALUE=DURATION:PT1H
X-Robots-Tag:noindex
X-PUBLISHED-TTL:PT1H
BEGIN:VTIMEZONE
TZID:Australia/Melbourne
BEGIN:STANDARD
TZOFFSETFROM:+1100
TZOFFSETTO:+1000
TZNAME:AEST
DTSTART:20200404T160000
END:STANDARD
BEGIN:DAYLIGHT
TZOFFSETFROM:+1000
TZOFFSETTO:+1100
TZNAME:AEDT
DTSTART:20201003T160000
END:DAYLIGHT
END:VTIMEZONE
BEGIN:VEVENT
DTSTART;TZID=Australia/Melbourne:20201101T120000
DTEND;TZID=Australia/Melbourne:20201101T233000
DTSTAMP:20260423T212603
CREATED:20200826T003300Z
LAST-MODIFIED:20210128T095450Z
UID:615-1604232000-1604273400@nyoraraceway.org.au
SUMMARY:Two Night Double Header - Night 2 - CANCELLED DUE TO COVID
DESCRIPTION:Night 2 of our big two night double header weekend! \nTonight the Wingless Sprints make the trip for Round 1 of the ML Automotive Wingless Sprints Series. The Crash N Bash\, VSC Sports Sedans and the Open Standards continue racing from night 1 and the Junior VSC Standard Saloons join in on the action.
URL:https://nyoraraceway.org.au/event/two-night-double-header-night-2/
LOCATION:Nyora Raceway\, Grundy Ave\, Nyora\, Vic\, 3987
ATTACH;FMTTYPE=image/jpeg:https://nyoraraceway.org.au/wp-content/uploads/2020/08/cancelled.jpg
END:VEVENT
BEGIN:VEVENT
DTSTART;TZID=Australia/Melbourne:20201121T120000
DTEND;TZID=Australia/Melbourne:20201121T233000
DTSTAMP:20260423T212603
CREATED:20200826T004453Z
LAST-MODIFIED:20210128T095027Z
UID:617-1605960000-1606001400@nyoraraceway.org.au
SUMMARY:Two Big Features - CANCELLED DUE TO COVID
DESCRIPTION:Join us for two big events – the VMPA Modifieds hit the track for one of their series rounds (TBC) and the ladies will show us how to race in the Skirtz in Dirt event. \nClub classes supporting these events will be Open Standards\, Junior VSC Standard Saloons\, VSC Sports Sedans and the SSA Juniors.
URL:https://nyoraraceway.org.au/event/two-big-features/
LOCATION:Nyora Raceway\, Grundy Ave\, Nyora\, Vic\, 3987
ATTACH;FMTTYPE=image/jpeg:https://nyoraraceway.org.au/wp-content/uploads/2020/08/cancelled.jpg
END:VEVENT
END:VCALENDAR