BEGIN:VCALENDAR
VERSION:2.0
PRODID:-//Nyora Raceway - ECPv6.14.2//NONSGML v1.0//EN
CALSCALE:GREGORIAN
METHOD:PUBLISH
X-WR-CALNAME:Nyora Raceway
X-ORIGINAL-URL:https://nyoraraceway.org.au
X-WR-CALDESC:Events for Nyora Raceway
REFRESH-INTERVAL;VALUE=DURATION:PT1H
X-Robots-Tag:noindex
X-PUBLISHED-TTL:PT1H
BEGIN:VTIMEZONE
TZID:Australia/Melbourne
BEGIN:STANDARD
TZOFFSETFROM:+1100
TZOFFSETTO:+1000
TZNAME:AEST
DTSTART:20210403T160000
END:STANDARD
BEGIN:DAYLIGHT
TZOFFSETFROM:+1000
TZOFFSETTO:+1100
TZNAME:AEDT
DTSTART:20211002T160000
END:DAYLIGHT
BEGIN:STANDARD
TZOFFSETFROM:+1100
TZOFFSETTO:+1000
TZNAME:AEST
DTSTART:20220402T160000
END:STANDARD
BEGIN:DAYLIGHT
TZOFFSETFROM:+1000
TZOFFSETTO:+1100
TZNAME:AEDT
DTSTART:20221001T160000
END:DAYLIGHT
BEGIN:STANDARD
TZOFFSETFROM:+1100
TZOFFSETTO:+1000
TZNAME:AEST
DTSTART:20230401T160000
END:STANDARD
BEGIN:DAYLIGHT
TZOFFSETFROM:+1000
TZOFFSETTO:+1100
TZNAME:AEDT
DTSTART:20230930T160000
END:DAYLIGHT
BEGIN:STANDARD
TZOFFSETFROM:+1100
TZOFFSETTO:+1000
TZNAME:AEST
DTSTART:20240406T160000
END:STANDARD
BEGIN:DAYLIGHT
TZOFFSETFROM:+1000
TZOFFSETTO:+1100
TZNAME:AEDT
DTSTART:20241005T160000
END:DAYLIGHT
BEGIN:STANDARD
TZOFFSETFROM:+1100
TZOFFSETTO:+1000
TZNAME:AEST
DTSTART:20250405T160000
END:STANDARD
BEGIN:DAYLIGHT
TZOFFSETFROM:+1000
TZOFFSETTO:+1100
TZNAME:AEDT
DTSTART:20251004T160000
END:DAYLIGHT
BEGIN:STANDARD
TZOFFSETFROM:+1100
TZOFFSETTO:+1000
TZNAME:AEST
DTSTART:20260404T160000
END:STANDARD
BEGIN:DAYLIGHT
TZOFFSETFROM:+1000
TZOFFSETTO:+1100
TZNAME:AEDT
DTSTART:20261003T160000
END:DAYLIGHT
END:VTIMEZONE
BEGIN:VEVENT
DTSTART;TZID=Australia/Melbourne:20210508T120000
DTEND;TZID=Australia/Melbourne:20210508T233000
DTSTAMP:20260423T181110
CREATED:20200829T025631Z
LAST-MODIFIED:20210128T103813Z
UID:800-1620475200-1620516600@nyoraraceway.org.au
SUMMARY:Fireworks and Demo Derby
DESCRIPTION:It’s gonna be a banger of a night watching drivers compete in a battle to the last man standing in the Demo Derby and the bright lights of fireworks! \nDon’t miss the ML Automotives Wingless Sprints taking to the field to race their Round 2 with double points. \nAlso meeting on track are our club classes – Open Standard Saloons\, Ladies Standard Saloons\, Junior Standard Saloons\, Sports Sedans\, and the SSA Juniors.
URL:https://nyoraraceway.org.au/event/fireworks-and-demo-derby/
LOCATION:Nyora Raceway\, Grundy Ave\, Nyora\, Vic\, 3987
ATTACH;FMTTYPE=image/jpeg:https://nyoraraceway.org.au/wp-content/uploads/2020/08/demo-derby.jpg
END:VEVENT
BEGIN:VEVENT
DTSTART;TZID=Australia/Melbourne:20210529T120000
DTEND;TZID=Australia/Melbourne:20210529T233000
DTSTAMP:20260423T181110
CREATED:20200829T030315Z
LAST-MODIFIED:20210128T103843Z
UID:802-1622289600-1622331000@nyoraraceway.org.au
SUMMARY:ML Automotives Wingless Sprints Grand Finale
DESCRIPTION:Come long and cheer on the ML Automotives Wingless Sprints as they compete in their Grand Finale and witness the edge of you seats action as the V8 Dirt Modifieds go for broke to win the $1000 prize money! \nMake sure to make some noise for our club classes – Open Standards\, Ladies Standard Saloons\, Junior Standard Saloons\, Sports Sedans\, SSA Juniors and the Ladies Crash n Bash.
URL:https://nyoraraceway.org.au/event/ml-automotives-wingless-sprints-grand-finale/
LOCATION:Nyora Raceway\, Grundy Ave\, Nyora\, Vic\, 3987
ATTACH;FMTTYPE=image/jpeg:https://nyoraraceway.org.au/wp-content/uploads/2020/08/wingless-sprints.jpg
END:VEVENT
BEGIN:VEVENT
DTSTART;TZID=Australia/Melbourne:20210626T120000
DTEND;TZID=Australia/Melbourne:20210626T233000
DTSTAMP:20260423T181110
CREATED:20200829T030810Z
LAST-MODIFIED:20210128T103949Z
UID:804-1624708800-1624750200@nyoraraceway.org.au
SUMMARY:Bob Hickson Memorial
DESCRIPTION:This action-packed night has many features organised! \nBring your respects and watch the Bob Hickson Memorial as well as the Open Standards Standing Start Feature\, Crash n Bash 20/20\, Ladies Track Championship\, and the Compact Speedcars.
URL:https://nyoraraceway.org.au/event/bob-hickson-memorial/
LOCATION:Nyora Raceway\, Grundy Ave\, Nyora\, Vic\, 3987
ATTACH;FMTTYPE=image/jpeg:https://nyoraraceway.org.au/wp-content/uploads/2020/08/bob-hickson-memorial.jpg
END:VEVENT
BEGIN:VEVENT
DTSTART;TZID=Australia/Melbourne:20211016T120000
DTEND;TZID=Australia/Melbourne:20211016T233000
DTSTAMP:20260423T181110
CREATED:20210618T122830Z
LAST-MODIFIED:20210618T122830Z
UID:4198-1634385600-1634427000@nyoraraceway.org.au
SUMMARY:SSA Juniors Victorian Title
DESCRIPTION:SSA Juniors Sedans Victorian State Title \nSupport Classes:\nVSC Open Standard Saloons\, Ladies VSC Standard Saloons\, Junior VSC Standard Saloons\, VSC Sports Sedans\, VSC Unlimiteds
URL:https://nyoraraceway.org.au/event/ssa-juniors-victorian-title-2/
LOCATION:Nyora Raceway\, Grundy Ave\, Nyora\, Vic\, 3987
END:VEVENT
BEGIN:VEVENT
DTSTART;TZID=Australia/Melbourne:20211030T120000
DTEND;TZID=Australia/Melbourne:20211030T233000
DTSTAMP:20260423T181110
CREATED:20210618T123126Z
LAST-MODIFIED:20210618T123126Z
UID:3606-1635595200-1635636600@nyoraraceway.org.au
SUMMARY:Spooky Spectacular
DESCRIPTION:Wingless Sprintcars\, VSC Open Standard Saloons Fast 50\, Formula 500 Juniors\, Formula 500s\, VSC 1200 Junior Sedans
URL:https://nyoraraceway.org.au/event/spooky-spectacular/
LOCATION:Nyora Raceway\, Grundy Ave\, Nyora\, Vic\, 3987
END:VEVENT
BEGIN:VEVENT
DTSTART;VALUE=DATE:20220212
DTEND;VALUE=DATE:20220213
DTSTAMP:20260423T181110
CREATED:20220208T215844Z
LAST-MODIFIED:20220208T215844Z
UID:4200-1644624000-1644710399@nyoraraceway.org.au
SUMMARY:Lightning Sprints Australian Title
DESCRIPTION:Lightning Sprints Australian Title\nAll Star Sprint Cars\nOpen Standards – Miles Cup \nSupport Classes:\nJunior VSC Standard Saloons\, SSA Junior Sedans
URL:https://nyoraraceway.org.au/event/lightning-sprints-australian-title-2/
LOCATION:Nyora Raceway\, Grundy Ave\, Nyora\, Vic\, 3987
END:VEVENT
BEGIN:VEVENT
DTSTART;VALUE=DATE:20220226
DTEND;VALUE=DATE:20220227
DTSTAMP:20260423T181110
CREATED:20220210T091516Z
LAST-MODIFIED:20220210T091516Z
UID:4201-1645833600-1645919999@nyoraraceway.org.au
SUMMARY:Formula 500 Victorian Title
DESCRIPTION:Formula 500 Victorian Title \nSupport Classes:\nVSC Open Standard Saloons\, Ladies VSC Standard Saloons\, VSC Sports Sedans\, VSC Unlimited Sedans
URL:https://nyoraraceway.org.au/event/formula-500-victorian-title-2/
LOCATION:Nyora Raceway\, Grundy Ave\, Nyora\, Vic\, 3987
END:VEVENT
BEGIN:VEVENT
DTSTART;TZID=Australia/Melbourne:20251018T140000
DTEND;TZID=Australia/Melbourne:20251018T203000
DTSTAMP:20260423T181110
CREATED:20250720T011742Z
LAST-MODIFIED:20250808T062312Z
UID:4202-1760796000-1760819400@nyoraraceway.org.au
SUMMARY:Twilight Club Show (AASA)
DESCRIPTION:VSC Standard Saloons – Ladies VSC Standard Saloons – Juniors VSC Standard Saloons – VSC 1200 Juniors – VSC Sport Sedans – Outlaw Karts
URL:https://nyoraraceway.org.au/event/twilight-club-show-aasa/
LOCATION:Nyora Raceway\, Grundy Ave\, Nyora\, Vic\, 3987
CATEGORIES:Junior VSC Standard Saloons,Ladies VSC Standard Saloons,Outlaw Karts,VSC 1200 Juniors,VSC Sports Sedans,VSC Standard Saloons
END:VEVENT
BEGIN:VEVENT
DTSTART;TZID=Australia/Melbourne:20251102T120000
DTEND;TZID=Australia/Melbourne:20251103T223000
DTSTAMP:20260423T181110
CREATED:20250720T013751Z
LAST-MODIFIED:20250808T062314Z
UID:4203-1762084800-1762209000@nyoraraceway.org.au
SUMMARY:Nyora Double Header
DESCRIPTION:V8 Dirt Modifieds – Wingless Sprints – VSC Standard Saloons\, “Dougo 44 : 22/22” – Divi 2 Hot Rods
URL:https://nyoraraceway.org.au/event/nyora-double-header/
LOCATION:Nyora Raceway\, Grundy Ave\, Nyora\, Vic\, 3987
CATEGORIES:Divi 2 Hot Rods,Dougo 44 22/22,V8 Dirt Modifieds,VSC Standard Saloons,Wingless Sprints
END:VEVENT
BEGIN:VEVENT
DTSTART;TZID=Australia/Melbourne:20251115T120000
DTEND;TZID=Australia/Melbourne:20251115T230000
DTSTAMP:20260423T181110
CREATED:20250720T015259Z
LAST-MODIFIED:20250808T062316Z
UID:4204-1763208000-1763247600@nyoraraceway.org.au
SUMMARY:Sports Sedans Feature
DESCRIPTION:VSC Sports Sedans – AMCA’s – Ladies VSC Standard Saloons – SSA Junior Sedans – VSC Standard Saloons
URL:https://nyoraraceway.org.au/event/sports-sedans-feature/
LOCATION:Vic
CATEGORIES:AMCA's,Ladies VSC Standard Saloons,SSA Junior Sedans,VSC Sports Sedans,VSC Standard Saloons
END:VEVENT
BEGIN:VEVENT
DTSTART;TZID=Australia/Melbourne:20251220T110000
DTEND;TZID=Australia/Melbourne:20251220T223000
DTSTAMP:20260423T181110
CREATED:20250808T062301Z
LAST-MODIFIED:20250808T063523Z
UID:4268-1766228400-1766269800@nyoraraceway.org.au
SUMMARY:Santa Is Coming / Woggy Memorial
DESCRIPTION:VSC Sports Sedans\, “Woggy Memorial” – VSC Standard Saloons – SSA Junior Sedans\, “JSPA Series” – VSC Ladies Standard Saloons
URL:https://nyoraraceway.org.au/event/santa-is-coming-woggy-memorial/
LOCATION:Nyora Raceway\, Grundy Ave\, Nyora\, Vic\, 3987
CATEGORIES:JSPA Series,Ladies VSC Standard Saloons,SSA Junior Sedans,VSC Sports Sedans,VSC Standard Saloons,Woggy Memorial
END:VEVENT
BEGIN:VEVENT
DTSTART;TZID=Australia/Melbourne:20260117T110000
DTEND;TZID=Australia/Melbourne:20260117T223000
DTSTAMP:20260423T181110
CREATED:20250808T062518Z
LAST-MODIFIED:20250808T083348Z
UID:4284-1768647600-1768689000@nyoraraceway.org.au
SUMMARY:Monster Trucks + Fireworks
DESCRIPTION:Monster Trucks – F500’s – V8 Dirt Modifieds
URL:https://nyoraraceway.org.au/event/monster-trucks-fireworks/
LOCATION:Nyora Raceway\, Grundy Ave\, Nyora\, Vic\, 3987
CATEGORIES:F500,Monster Trucks,V8 Dirt Modifieds
END:VEVENT
BEGIN:VEVENT
DTSTART;TZID=Australia/Melbourne:20260207T110000
DTEND;TZID=Australia/Melbourne:20260207T223000
DTSTAMP:20260423T181110
CREATED:20250808T063933Z
LAST-MODIFIED:20250826T025830Z
UID:4295-1770462000-1770503400@nyoraraceway.org.au
SUMMARY:Open Standards Teams Race
DESCRIPTION:VSC Standard Saloons\, “Teams Race” – Compact Speedcars – SDAV Hot Rods – SSA Junior Sedans – GP Midgets
URL:https://nyoraraceway.org.au/event/open-standards-teams-race/
LOCATION:Nyora Raceway\, Grundy Ave\, Nyora\, Vic\, 3987
CATEGORIES:Compact Speedcars,Ladies VSC Standard Saloons,SDAV Hot Rods,SSA Junior Sedans,VSC Standard Saloons
END:VEVENT
BEGIN:VEVENT
DTSTART;TZID=Australia/Melbourne:20260228T110000
DTEND;TZID=Australia/Melbourne:20260228T223000
DTSTAMP:20260423T181110
CREATED:20250808T083819Z
LAST-MODIFIED:20250808T084159Z
UID:4300-1772276400-1772317800@nyoraraceway.org.au
SUMMARY:Wingless Eastern Series
DESCRIPTION:Wingless Sprints\, “Eastern Series” – VSC Unlimited Sedans – Ladies VSC Standard Saloons – Junior VSC Standard Saloons – Outlaw Karts
URL:https://nyoraraceway.org.au/event/wingless-eastern-series/
LOCATION:Nyora Raceway\, Grundy Ave\, Nyora\, Vic\, 3987
CATEGORIES:Junior VSC Standard Saloons,Ladies VSC Standard Saloons,Outlaw Karts,VSC Unlimited Sedans,Wingless Sprints
END:VEVENT
BEGIN:VEVENT
DTSTART;TZID=Australia/Melbourne:20260314T110000
DTEND;TZID=Australia/Melbourne:20260314T223000
DTSTAMP:20260423T181110
CREATED:20250808T084525Z
LAST-MODIFIED:20250808T084529Z
UID:4305-1773486000-1773527400@nyoraraceway.org.au
SUMMARY:SSA Modifieds Sedans 5K
DESCRIPTION:SSA Modified Sedans\, “5K” – SSA Super Sedans – SSA Junior Sedans – Junior VSC Standard Saloons
URL:https://nyoraraceway.org.au/event/ssa-modifieds-sedans-5k/
LOCATION:Nyora Raceway\, Grundy Ave\, Nyora\, Vic\, 3987
CATEGORIES:Junior VSC Standard Saloons,SSA Junior Sedans,SSA Modified Sedans,SSA Super Sedans
END:VEVENT
BEGIN:VEVENT
DTSTART;TZID=Australia/Melbourne:20260411T110000
DTEND;TZID=Australia/Melbourne:20260411T223000
DTSTAMP:20260423T181110
CREATED:20250808T084837Z
LAST-MODIFIED:20250808T084840Z
UID:4310-1775905200-1775946600@nyoraraceway.org.au
SUMMARY:No Prep Racing (AASA)
DESCRIPTION:VSC Sports Sedans – VSC Standard Saloons – VSC 1200 Juniors – VSC Unlimited Sedans – Junior VSC Standard Saloons
URL:https://nyoraraceway.org.au/event/no-prep-racing-aasa/
LOCATION:Nyora Raceway\, Grundy Ave\, Nyora\, Vic\, 3987
CATEGORIES:Junior VSC Standard Saloons,VSC 1200 Juniors,VSC Sports Sedans,VSC Standard Saloons,VSC Unlimited Sedans
END:VEVENT
BEGIN:VEVENT
DTSTART;TZID=Australia/Melbourne:20260425T110000
DTEND;TZID=Australia/Melbourne:20260425T223000
DTSTAMP:20260423T181110
CREATED:20250808T085401Z
LAST-MODIFIED:20250808T085405Z
UID:4315-1777114800-1777156200@nyoraraceway.org.au
SUMMARY:Demo Derby 5K / Miles Cup
DESCRIPTION:Demolition Derby “5K” – VSC Standard Saloons\, “Miles Cup”- VSC Sports Sedans – SSA Junior Sedans – Junior VSC Opens – Ladies VSC Standard Saloons – VSC Limited Sportsman
URL:https://nyoraraceway.org.au/event/demo-derby-5k-miles-cup/
LOCATION:Nyora Raceway\, Grundy Ave\, Nyora\, Vic\, 3987
CATEGORIES:Demo Derby,Junior VSC Opens,Ladies VSC Standard Saloons,SSA Junior Sedans,VSC Limited Sportsman,VSC Sports Sedans,VSC Standard Saloons
END:VEVENT
BEGIN:VEVENT
DTSTART;TZID=Australia/Melbourne:20260509T110000
DTEND;TZID=Australia/Melbourne:20260509T223000
DTSTAMP:20260423T181110
CREATED:20250808T085655Z
LAST-MODIFIED:20250808T085745Z
UID:4320-1778324400-1778365800@nyoraraceway.org.au
SUMMARY:AMCA'S
DESCRIPTION:AMCA’s – SDAV Hot Rods – Ladies VSC Standard Saloons – SSA Junior Sedans – VSC Unlimited Sedans – VSC Limited Sportsman
URL:https://nyoraraceway.org.au/event/demo-derby-5k-miles-cup-2/
LOCATION:Nyora Raceway\, Grundy Ave\, Nyora\, Vic\, 3987
CATEGORIES:AMCA's,Ladies VSC Standard Saloons,SDAV Hot Rods,SSA Junior Sedans,VSC Limited Sportsman,VSC Unlimited Sedans
END:VEVENT
BEGIN:VEVENT
DTSTART;TZID=Australia/Melbourne:20260620T110000
DTEND;TZID=Australia/Melbourne:20260620T223000
DTSTAMP:20260423T181110
CREATED:20250808T090455Z
LAST-MODIFIED:20250808T090459Z
UID:4325-1781953200-1781994600@nyoraraceway.org.au
SUMMARY:Bob Hickson 50 Lapper
DESCRIPTION:Crash N Bash – VSC Standard Saloons\, “Stop-Go Feature” – VSC 1200 Juniors
URL:https://nyoraraceway.org.au/event/bob-hickson-50-lapper/
LOCATION:Nyora Raceway\, Grundy Ave\, Nyora\, Vic\, 3987
CATEGORIES:Crash N Bash,VSC 1200 Juniors,VSC Standard Saloons
END:VEVENT
END:VCALENDAR