BEGIN:VCALENDAR
VERSION:2.0
PRODID:-//Nyora Raceway - ECPv6.14.2//NONSGML v1.0//EN
CALSCALE:GREGORIAN
METHOD:PUBLISH
X-ORIGINAL-URL:https://nyoraraceway.org.au
X-WR-CALDESC:Events for Nyora Raceway
REFRESH-INTERVAL;VALUE=DURATION:PT1H
X-Robots-Tag:noindex
X-PUBLISHED-TTL:PT1H
BEGIN:VTIMEZONE
TZID:Australia/Melbourne
BEGIN:STANDARD
TZOFFSETFROM:+1100
TZOFFSETTO:+1000
TZNAME:AEST
DTSTART:20200404T160000
END:STANDARD
BEGIN:DAYLIGHT
TZOFFSETFROM:+1000
TZOFFSETTO:+1100
TZNAME:AEDT
DTSTART:20201003T160000
END:DAYLIGHT
END:VTIMEZONE
BEGIN:VEVENT
DTSTART;TZID=Australia/Melbourne:20201212T120000
DTEND;TZID=Australia/Melbourne:20201212T233000
DTSTAMP:20260423T212652
CREATED:20200826T005509Z
LAST-MODIFIED:20210128T102250Z
UID:619-1607774400-1607815800@nyoraraceway.org.au
SUMMARY:Christmas at Nyora
DESCRIPTION:The first meet at Nyora since the pandemic started is going to be a good one. \nJoin us for our feature event – The Junior VSC Standard Saloons Covid Showdown. \nWe’ve asked Santa if he can find time to come join us!\nIf he does\, he’ll also get to see the Open Standards\, Ladies VSC Standard Saloons\, SSA Juniors\, VSC Sports Sedans and the VSC Unlimited Sedans as they battle it out for club points.
URL:https://nyoraraceway.org.au/event/christmas-at-nyora/
LOCATION:Nyora Raceway\, Grundy Ave\, Nyora\, Vic\, 3987
ATTACH;FMTTYPE=image/jpeg:https://nyoraraceway.org.au/wp-content/uploads/2020/08/unlimited.jpg
END:VEVENT
END:VCALENDAR