BEGIN:VCALENDAR
VERSION:2.0
PRODID:-//Nyora Raceway - ECPv6.14.2//NONSGML v1.0//EN
CALSCALE:GREGORIAN
METHOD:PUBLISH
X-ORIGINAL-URL:https://nyoraraceway.org.au
X-WR-CALDESC:Events for Nyora Raceway
REFRESH-INTERVAL;VALUE=DURATION:PT1H
X-Robots-Tag:noindex
X-PUBLISHED-TTL:PT1H
BEGIN:VTIMEZONE
TZID:Australia/Melbourne
BEGIN:STANDARD
TZOFFSETFROM:+1100
TZOFFSETTO:+1000
TZNAME:AEST
DTSTART:20200404T160000
END:STANDARD
BEGIN:DAYLIGHT
TZOFFSETFROM:+1000
TZOFFSETTO:+1100
TZNAME:AEDT
DTSTART:20201003T160000
END:DAYLIGHT
END:VTIMEZONE
BEGIN:VEVENT
DTSTART;TZID=Australia/Melbourne:20201031T120000
DTEND;TZID=Australia/Melbourne:20201031T233000
DTSTAMP:20260423T225354
CREATED:20200826T002026Z
LAST-MODIFIED:20210128T095414Z
UID:611-1604145600-1604187000@nyoraraceway.org.au
SUMMARY:Two Night Double Header - Night 1 - CANCELLED DUE TO COVID
DESCRIPTION:This is our big two night double header weekend!\nWe have four big classes happening! \nCome watch the mad Crash N Bash guys and girls battle it out in full contact racing and the SSA Juniors race for JSPA points.\nThe VSC Sports Sedans will show why they are one of the biggest classes in the VSC and the Open Standards with 2 drivers and one car will battle it out in the Open Standards 20/20. Not a weekend you want to miss!
URL:https://nyoraraceway.org.au/event/two-night-double-header-night-1/
LOCATION:Nyora Raceway\, Grundy Ave\, Nyora\, Vic\, 3987
ATTACH;FMTTYPE=image/jpeg:https://nyoraraceway.org.au/wp-content/uploads/2020/08/cancelled.jpg
END:VEVENT
END:VCALENDAR